BEGIN:VCALENDAR
VERSION:2.0
PRODID:-//Vet Point Seminary - ECPv6.15.13.1//NONSGML v1.0//EN
CALSCALE:GREGORIAN
METHOD:PUBLISH
X-WR-CALNAME:Vet Point Seminary
X-ORIGINAL-URL:https://vetpointseminary.com
X-WR-CALDESC:Events for Vet Point Seminary
REFRESH-INTERVAL;VALUE=DURATION:PT1H
X-Robots-Tag:noindex
X-PUBLISHED-TTL:PT1H
BEGIN:VTIMEZONE
TZID:UTC
BEGIN:STANDARD
TZOFFSETFROM:+0000
TZOFFSETTO:+0000
TZNAME:UTC
DTSTART:20230101T000000
END:STANDARD
END:VTIMEZONE
BEGIN:VEVENT
DTSTART;TZID=UTC:20240319T200000
DTEND;TZID=UTC:20240319T210000
DTSTAMP:20260421T113408
CREATED:20240204T091329Z
LAST-MODIFIED:20240204T105404Z
UID:4218-1710878400-1710882000@vetpointseminary.com
SUMMARY:ΔΩΡΕΑΝ WEBINAR: "Λεϊσμανίαση (Καλαζάρ) Σκύλου: Ό\,τι πρέπει να γνωρίζετε!"
DESCRIPTION:  \nΔΗΛΩΣΤΕ ΣΥΜΜΕΤΟΧΗ \n  \n  \nΠεριγραφή σεμιναρίου: \nΗ Λεϊσμανίαση του Σκύλου είναι ένα μεταδοτικό λοιμώδες νόσημα πολύ συχνό στις χώρες της λεκάνης της Μεσογείου όπως η Ελλάδα και η Κύπρος. Δυστυχώς μεγάλος αριθμός σκύλων\, δεσποζόμενων και αδέσποτων πεθαίνουν κάθε χρόνο από Λεϊσμανίαση. \nΣτη σύγχρονη Κτηνιατρική πράξη\, υπάρχουν αρκετές επιλογές πρόληψης και θεραπείας της Λεϊσμανίασης. Σε αυτό το σεμινάριο\, οι κηδεμόνες σκύλων μπορούν να κατανοήσουν το νόσημα\, πως μεταδίδεται\, πως να αναγνωρίσουν τα συμπτώματα στον τετράποδο φίλο τους\, αλλά και ό\,τι χρειάζεται να γνωρίζουν για την πρόληψη και τη θεραπεία αυτής της θανατηφόρου νόσου. \nΠου: Διαδικτυακά / Ζωντανά \nΠότε: Τρίτη 19 Μαρτίου 2024\,  20:00  (ώρα Ελλάδας / Κύπρου) \nΔιάρκεια: 1 ώρα \nΓλώσσα: Ελληνικά \nΔΩΡΕΑΝ \nΟμιλητής: Δρ Δήμητρα Σωφρονίου \nΧορηγός: Farmina Pet Foods \n  \nΒιογραφικό Ομιλητή: \nΗ Δρ Δήμητρα Σωφρονίου αποφοίτησε το 2005 από το Λύκειο Αγίου Σπυρίδωνα στη Λεμεσό με άριστα και με τιμητική διάκριση στο μάθημα της Βιολογίας. Σπούδασε στο Τμήμα Κτηνιατρικής του Αριστοτέλειου Πανεπιστημίου Θεσσαλονίκης. Κατά τη διάρκεια των σπουδών της συμμετείχε ως εθελόντρια στο Ελληνικό Κέντρο Περίθαλψης Άγριων Ζώων. Εργάστηκε ως Κτηνίατρος σε Κτηνιατρική Κλινική στη Λεμεσό για 3\,5 χρόνια και ακολούθως μετεκπαιδεύτηκε στην Κλινική Ζώων Συντροφιάς του Αριστοτέλειου Πανεπιστημίου Θεσσαλονίκης στις Μονάδες Χειρουργικής – Μαιευτικής\, Αναισθησιολογίας – Εντατικής Θεραπείας και Διαγνωστικής Απεικονιστικής. Πραγματοποίησε κλινική άσκηση ως μεταπτυχιακή φοιτήτρια στο Τμήμα Οφθαλμολογίας και στο Τμήμα Εξωτικών Ζώων στην Κλινική Ζώων Συντροφιάς του Αριστοτέλειου Πανεπιστημίου Θεσσαλονίκης. \nΣυμμετείχε σε δύο παρασιτολογικές ερευνητικές μελέτες για τα ζώα στην Κύπρο. Η πρώτη έρευνα με τίτλο «Occurrence and zoonotic potential of endoparasites in cats of Cyprus and a new distribution area for Troglostrongylus brevior» δημοσιεύτηκε το 2017 στο παγκόσμιο παρασιτολογικό περιοδικό ερευνών «Parasitology Research». Η δεύτερη «Ticks\,Fleas and Harboured Pathogens from dogs and cats in Cyprus» δημοσιεύτηκε στο παγκόσμιο περιοδικό ερευνών «Pathogens» το 2022. \nΗ Δρ Δήμητρα Σωφρονίου παρουσίασε ως ομιλήτρια θέματα που αφορούν την Εντατική Θεραπεία Ζώων Συντροφιάς στο 13ο Πανελλήνιο Κτηνιατρικό Συνέδριο στην Αθήνα. Συμμετέχει σε πολλά παγκόσμια\, τοπικά και διαδικτυακά επιστημονικά κτηνιατρικά συνέδρια κάθε χρόνο και έχει παρακολουθήσει μια σειρά σεμιναρίων που αφορούν την ιδιοσυγκρασία\, τη συμπεριφορά και την ιατρική της γάτας. \nΕπιπλέον\, παρακολούθησε μαθήματα Personal Branding – Business Strategy\, ενώ έχει πιστοποιηθεί από την Google ως Social Media Manager μετά από σειρά μαθημάτων Social Media Marketing που παρακολούθησε. \nΗ Δρ Δήμητρα Σωφρονίου είναι μέλος της Επαρχιακής Επιτροπής Ευημερίας Ζώων Λεμεσού από το 2021\, είναι τακτικός αρθρογράφος σε ιστοσελίδες σχετικά με θέματα υγείας και φροντίδας των κατοικίδιων ζώων\, ενώ διατηρεί προσωπικό κανάλι στο Youtube «Dr Demetra Sofroniou» στο οποίο προσφέρει συμβουλές για τη φροντίδα των κατοικίδιων. \nΗ Δρ Δήμητρα Σωφρονίου ασκεί την Κτηνιατρική Πράξη από το 2012 και από το 2019 είναι ιδιοκτήτρια της Κτηνιατρικής Κλινικής Love4Pets στην Λεμεσό\, όπου και εργάζεται ως Κτηνίατρος. \n  \nΔΗΛΩΣΕ ΣΥΜΜΕΤΟΧΗ\nΟι εγγραφές για το σεμινάριο «Λεϊσμανίαση (Καλαζάρ) Σκύλου: Ό\,τι πρέπει να γνωρίζετε!»\, έχουν λήξει.
URL:https://vetpointseminary.com/seminar/%ce%bb%ce%b5%cf%8a%cf%83%ce%bc%ce%b1%ce%bd%ce%af%ce%b1%cf%83%ce%b7_%ce%ba%ce%b1%ce%bb%ce%b1%ce%b6%ce%b1%cf%81_%cf%83%ce%ba%cf%85%ce%bb%ce%bf%cf%85/
CATEGORIES:Ανοιχτά Σεμινάρια,Δωρεάν Σεμινάρια
ATTACH;FMTTYPE=image/jpeg:https://vetpointseminary.com/wp-content/uploads/2024/02/golden-retriever-dog-doing-give-paw-trick-gray-scaled.jpg
END:VEVENT
END:VCALENDAR